BEGIN:VCALENDAR
VERSION:2.0
PRODID:-//East Central Ontario Regional Council of the United Church of Canada - ECPv6.15.20//NONSGML v1.0//EN
CALSCALE:GREGORIAN
METHOD:PUBLISH
X-WR-CALNAME:East Central Ontario Regional Council of the United Church of Canada
X-ORIGINAL-URL:https://ecorcuccan.ca
X-WR-CALDESC:Events for East Central Ontario Regional Council of the United Church of Canada
REFRESH-INTERVAL;VALUE=DURATION:PT1H
X-Robots-Tag:noindex
X-PUBLISHED-TTL:PT1H
BEGIN:VTIMEZONE
TZID:America/Toronto
BEGIN:DAYLIGHT
TZOFFSETFROM:-0500
TZOFFSETTO:-0400
TZNAME:EDT
DTSTART:20240310T070000
END:DAYLIGHT
BEGIN:STANDARD
TZOFFSETFROM:-0400
TZOFFSETTO:-0500
TZNAME:EST
DTSTART:20241103T060000
END:STANDARD
BEGIN:DAYLIGHT
TZOFFSETFROM:-0500
TZOFFSETTO:-0400
TZNAME:EDT
DTSTART:20250309T070000
END:DAYLIGHT
BEGIN:STANDARD
TZOFFSETFROM:-0400
TZOFFSETTO:-0500
TZNAME:EST
DTSTART:20251102T060000
END:STANDARD
BEGIN:DAYLIGHT
TZOFFSETFROM:-0500
TZOFFSETTO:-0400
TZNAME:EDT
DTSTART:20260308T070000
END:DAYLIGHT
BEGIN:STANDARD
TZOFFSETFROM:-0400
TZOFFSETTO:-0500
TZNAME:EST
DTSTART:20261101T060000
END:STANDARD
END:VTIMEZONE
BEGIN:VEVENT
DTSTART;VALUE=DATE:20250807
DTEND;VALUE=DATE:20250809
DTSTAMP:20260419T213818
CREATED:20250728T142513Z
LAST-MODIFIED:20250728T142513Z
UID:128532-1754524800-1754697599@ecorcuccan.ca
SUMMARY:Youth Summer Activity Days - Aug. 7 & 8\, 2025
DESCRIPTION:Cambridge Street United Church (Lindsay\, ON) Kids Corner presents Summer Activity Days for youth ages 5-13 years – Thursday\, Aug. 7 and Friday\, Aug. 8 from 9am to 3pm both days. Join us for crafts\, songs\, games\, snacks and more. Scan the QR code to sign up your child or email Sam Henry\, Youth Coordinator: csucyouth@gmail.com
URL:https://ecorcuccan.ca/event/youth-summer-activity-days-aug-7-8-2025/
LOCATION:Cambridge Street United Church\, 61 Cambridge Street North\, Lindsay\, Ontario\, K9V 4C9\, Canada
CATEGORIES:Community of Faith Events,Educational
ATTACH;FMTTYPE=image/jpeg:https://ecorcuccan.ca/wp-content/uploads/2025/07/SKM_45825070210390-scaled.jpg
END:VEVENT
END:VCALENDAR