BEGIN:VCALENDAR
VERSION:2.0
PRODID:-//East Central Ontario Regional Council of the United Church of Canada - ECPv6.15.20//NONSGML v1.0//EN
CALSCALE:GREGORIAN
METHOD:PUBLISH
X-WR-CALNAME:East Central Ontario Regional Council of the United Church of Canada
X-ORIGINAL-URL:https://ecorcuccan.ca
X-WR-CALDESC:Events for East Central Ontario Regional Council of the United Church of Canada
REFRESH-INTERVAL;VALUE=DURATION:PT1H
X-Robots-Tag:noindex
X-PUBLISHED-TTL:PT1H
BEGIN:VTIMEZONE
TZID:America/Toronto
BEGIN:DAYLIGHT
TZOFFSETFROM:-0500
TZOFFSETTO:-0400
TZNAME:EDT
DTSTART:20240310T070000
END:DAYLIGHT
BEGIN:STANDARD
TZOFFSETFROM:-0400
TZOFFSETTO:-0500
TZNAME:EST
DTSTART:20241103T060000
END:STANDARD
BEGIN:DAYLIGHT
TZOFFSETFROM:-0500
TZOFFSETTO:-0400
TZNAME:EDT
DTSTART:20250309T070000
END:DAYLIGHT
BEGIN:STANDARD
TZOFFSETFROM:-0400
TZOFFSETTO:-0500
TZNAME:EST
DTSTART:20251102T060000
END:STANDARD
BEGIN:DAYLIGHT
TZOFFSETFROM:-0500
TZOFFSETTO:-0400
TZNAME:EDT
DTSTART:20260308T070000
END:DAYLIGHT
BEGIN:STANDARD
TZOFFSETFROM:-0400
TZOFFSETTO:-0500
TZNAME:EST
DTSTART:20261101T060000
END:STANDARD
END:VTIMEZONE
BEGIN:VEVENT
DTSTART;TZID=America/Toronto:20250611T093000
DTEND;TZID=America/Toronto:20250611T140000
DTSTAMP:20260421T040515
CREATED:20250602T174157Z
LAST-MODIFIED:20250602T174157Z
UID:127303-1749634200-1749650400@ecorcuccan.ca
SUMMARY:Love and Bee Loved
DESCRIPTION:Kawartha Highland UCW rally. A day of spiritual renewal\, fellowship\, singing and joy. Includes lunch. Our speaker is a bee keeper who will be telling us about bees. We will be having a Kawartha Highlands UCW basket fundraiser. Contact Roberta Plunkett email: bertplunk@hotmail.com
URL:https://ecorcuccan.ca/event/love-and-bee-loved/
LOCATION:Bethel Emily United Church\, 90 Bethel Road\, Omemee\, Ontario\, K0L 2W0\, Canada
CATEGORIES:United Church Women (UCW)
ATTACH;FMTTYPE=image/jpeg:https://ecorcuccan.ca/wp-content/uploads/2025/05/IMG_1848.jpeg
END:VEVENT
END:VCALENDAR