BEGIN:VCALENDAR
VERSION:2.0
PRODID:-//East Central Ontario Regional Council of the United Church of Canada - ECPv6.15.20//NONSGML v1.0//EN
CALSCALE:GREGORIAN
METHOD:PUBLISH
X-ORIGINAL-URL:https://ecorcuccan.ca
X-WR-CALDESC:Events for East Central Ontario Regional Council of the United Church of Canada
REFRESH-INTERVAL;VALUE=DURATION:PT1H
X-Robots-Tag:noindex
X-PUBLISHED-TTL:PT1H
BEGIN:VTIMEZONE
TZID:America/Toronto
BEGIN:DAYLIGHT
TZOFFSETFROM:-0500
TZOFFSETTO:-0400
TZNAME:EDT
DTSTART:20250309T070000
END:DAYLIGHT
BEGIN:STANDARD
TZOFFSETFROM:-0400
TZOFFSETTO:-0500
TZNAME:EST
DTSTART:20251102T060000
END:STANDARD
BEGIN:DAYLIGHT
TZOFFSETFROM:-0500
TZOFFSETTO:-0400
TZNAME:EDT
DTSTART:20260308T070000
END:DAYLIGHT
BEGIN:STANDARD
TZOFFSETFROM:-0400
TZOFFSETTO:-0500
TZNAME:EST
DTSTART:20261101T060000
END:STANDARD
BEGIN:DAYLIGHT
TZOFFSETFROM:-0500
TZOFFSETTO:-0400
TZNAME:EDT
DTSTART:20270314T070000
END:DAYLIGHT
BEGIN:STANDARD
TZOFFSETFROM:-0400
TZOFFSETTO:-0500
TZNAME:EST
DTSTART:20271107T060000
END:STANDARD
END:VTIMEZONE
BEGIN:VEVENT
DTSTART;TZID=America/Toronto:20260325T093000
DTEND;TZID=America/Toronto:20260325T143000
DTSTAMP:20260420T100154
CREATED:20260217T151718Z
LAST-MODIFIED:20260217T151718Z
UID:135018-1774431000-1774449000@ecorcuccan.ca
SUMMARY:Kente Area UCW Annual Meeting
DESCRIPTION:“Serving Others” is the theme of a day to hear how one woman used her life experience to make a difference\, share in worship\, music\, news of neighbour groups\, a fellowship meal and elect Area UCW Leadership Team for the coming year. All are invited to attend including guests from other churches or community members. \nSend in UCW group numbers or register as a guest by March 17 with Alfreda Rupert 613 369 1581 alfreda.rupert1@gmail.com
URL:https://ecorcuccan.ca/event/kente-area-ucw-annual-meeting/
LOCATION:St. Mark’s United Church\, Cannifton\, 237 Cannifton Road North\, Cannifton\, ON\, K0H 1K0\, Canada
CATEGORIES:United Church Women (UCW)
ATTACH;FMTTYPE=image/jpeg:https://ecorcuccan.ca/wp-content/uploads/2026/02/2026-Kente-UCW-Annual-poster-scaled.jpg
END:VEVENT
END:VCALENDAR