BEGIN:VCALENDAR
VERSION:2.0
PRODID:-//East Central Ontario Regional Council of the United Church of Canada - ECPv6.15.20//NONSGML v1.0//EN
CALSCALE:GREGORIAN
METHOD:PUBLISH
X-ORIGINAL-URL:https://ecorcuccan.ca
X-WR-CALDESC:Events for East Central Ontario Regional Council of the United Church of Canada
REFRESH-INTERVAL;VALUE=DURATION:PT1H
X-Robots-Tag:noindex
X-PUBLISHED-TTL:PT1H
BEGIN:VTIMEZONE
TZID:America/Toronto
BEGIN:DAYLIGHT
TZOFFSETFROM:-0500
TZOFFSETTO:-0400
TZNAME:EDT
DTSTART:20250309T070000
END:DAYLIGHT
BEGIN:STANDARD
TZOFFSETFROM:-0400
TZOFFSETTO:-0500
TZNAME:EST
DTSTART:20251102T060000
END:STANDARD
BEGIN:DAYLIGHT
TZOFFSETFROM:-0500
TZOFFSETTO:-0400
TZNAME:EDT
DTSTART:20260308T070000
END:DAYLIGHT
BEGIN:STANDARD
TZOFFSETFROM:-0400
TZOFFSETTO:-0500
TZNAME:EST
DTSTART:20261101T060000
END:STANDARD
BEGIN:DAYLIGHT
TZOFFSETFROM:-0500
TZOFFSETTO:-0400
TZNAME:EDT
DTSTART:20270314T070000
END:DAYLIGHT
BEGIN:STANDARD
TZOFFSETFROM:-0400
TZOFFSETTO:-0500
TZNAME:EST
DTSTART:20271107T060000
END:STANDARD
END:VTIMEZONE
BEGIN:VEVENT
DTSTART;TZID=America/Toronto:20260424T090000
DTEND;TZID=America/Toronto:20260424T150000
DTSTAMP:20260420T063941
CREATED:20260223T203821Z
LAST-MODIFIED:20260223T203821Z
UID:135082-1777021200-1777042800@ecorcuccan.ca
SUMMARY:East Central Ontario Region UCW Annual
DESCRIPTION:“Reaching Out” is the theme of a spirit-filled day from 9 to 3 on Friday\, April 24 at Trinity-St Andrew’s in Brighton. Speakers Wanda Stride (UCC Reaching Out)\, Joni Shawana\, Healing Fund (Healing with Horses via zoom)\, and Janet and Helmut Enns(Friends of Migrant Workers in Brighton) are sure to inspire. Also Grand River Books\, Fair Trade\, Healing Fund\, Old Hay Bay Church and Indigenous Lending Library displays. Cost for the day including lunch $30. \nRegister online HERE or contact Registrar – Marion McComb – hillsandshoresucw@gmail.com
URL:https://ecorcuccan.ca/event/east-central-ontario-region-ucw-annual-2/
LOCATION:Trinity St. Andrew’s United Church\, Brighton\, 56 Prince Edward Street\, Brighton\, Ontario\, K0K 1H0\, Canada
CATEGORIES:United Church Women (UCW)
ATTACH;FMTTYPE=image/jpeg:https://ecorcuccan.ca/wp-content/uploads/2026/02/ECOR-UCW-ANNUAL-2026-Poster-Final-Edit-scaled.jpg
ORGANIZER;CN="ECOR UCW":MAILTO:cdmound@gmail.com
END:VEVENT
END:VCALENDAR