BEGIN:VCALENDAR
VERSION:2.0
PRODID:-//East Central Ontario Regional Council of the United Church of Canada - ECPv6.15.20//NONSGML v1.0//EN
CALSCALE:GREGORIAN
METHOD:PUBLISH
X-ORIGINAL-URL:https://ecorcuccan.ca
X-WR-CALDESC:Events for East Central Ontario Regional Council of the United Church of Canada
REFRESH-INTERVAL;VALUE=DURATION:PT1H
X-Robots-Tag:noindex
X-PUBLISHED-TTL:PT1H
BEGIN:VTIMEZONE
TZID:America/Toronto
BEGIN:DAYLIGHT
TZOFFSETFROM:-0500
TZOFFSETTO:-0400
TZNAME:EDT
DTSTART:20230312T070000
END:DAYLIGHT
BEGIN:STANDARD
TZOFFSETFROM:-0400
TZOFFSETTO:-0500
TZNAME:EST
DTSTART:20231105T060000
END:STANDARD
BEGIN:DAYLIGHT
TZOFFSETFROM:-0500
TZOFFSETTO:-0400
TZNAME:EDT
DTSTART:20240310T070000
END:DAYLIGHT
BEGIN:STANDARD
TZOFFSETFROM:-0400
TZOFFSETTO:-0500
TZNAME:EST
DTSTART:20241103T060000
END:STANDARD
BEGIN:DAYLIGHT
TZOFFSETFROM:-0500
TZOFFSETTO:-0400
TZNAME:EDT
DTSTART:20250309T070000
END:DAYLIGHT
BEGIN:STANDARD
TZOFFSETFROM:-0400
TZOFFSETTO:-0500
TZNAME:EST
DTSTART:20251102T060000
END:STANDARD
END:VTIMEZONE
BEGIN:VEVENT
DTSTART;TZID=America/Toronto:20240602T100000
DTEND;TZID=America/Toronto:20240602T120000
DTSTAMP:20260420T230604
CREATED:20240408T152202Z
LAST-MODIFIED:20240408T152202Z
UID:93871-1717322400-1717329600@ecorcuccan.ca
SUMMARY:Pride Walk and Worship Service\, Memorial Park\, Brighton June 2\, 2024
DESCRIPTION:PRIDE WALK\nSunday\, June 2\, 10:00 AM\nMeet at 9:45 am on the rainbow steps at Trinity-St Andrew’s United Church\, 56 Prince Edward Street\, Brighton \nPRIDE WORSHIP\nSunday\, June 2\, 10:30 AM\nMemorial Park\, Main Street & Veterans Way (near the CIBC bank)\, Brighton\nBring your own chair and sun hat/umbrella\nIf it rains\, the service will move to the\nchurch at 56 Prince Edward Street\nFeaturing: Great music\, kids play area\,\nand rainbow cookies!
URL:https://ecorcuccan.ca/event/pride-walk-and-worship-service-memorial-park-brighton-june-2-2024/
LOCATION:Trinity-St. Andrew’s United Church\, Address 56 Prince Edward Brighton\, Brighton\, ON\, K0K 1H0\, Canada
CATEGORIES:Other Events
ATTACH;FMTTYPE=image/jpeg:https://ecorcuccan.ca/wp-content/uploads/2024/04/Pride-Walk-and-Worship-2024.jpeg
ORGANIZER;CN="Trinity St. Andrew's United Church%2C Brighton":MAILTO:admin@trinitystandrews.ca
END:VEVENT
END:VCALENDAR